BEGIN:VCALENDAR
VERSION:2.0
PRODID:-//Startup Redding - ECPv6.15.20//NONSGML v1.0//EN
CALSCALE:GREGORIAN
METHOD:PUBLISH
X-ORIGINAL-URL:https://startupredding.com
X-WR-CALDESC:Events for Startup Redding
REFRESH-INTERVAL;VALUE=DURATION:PT1H
X-Robots-Tag:noindex
X-PUBLISHED-TTL:PT1H
BEGIN:VTIMEZONE
TZID:America/Los_Angeles
BEGIN:DAYLIGHT
TZOFFSETFROM:-0800
TZOFFSETTO:-0700
TZNAME:PDT
DTSTART:20230312T100000
END:DAYLIGHT
BEGIN:STANDARD
TZOFFSETFROM:-0700
TZOFFSETTO:-0800
TZNAME:PST
DTSTART:20231105T090000
END:STANDARD
BEGIN:DAYLIGHT
TZOFFSETFROM:-0800
TZOFFSETTO:-0700
TZNAME:PDT
DTSTART:20240310T100000
END:DAYLIGHT
BEGIN:STANDARD
TZOFFSETFROM:-0700
TZOFFSETTO:-0800
TZNAME:PST
DTSTART:20241103T090000
END:STANDARD
BEGIN:DAYLIGHT
TZOFFSETFROM:-0800
TZOFFSETTO:-0700
TZNAME:PDT
DTSTART:20250309T100000
END:DAYLIGHT
BEGIN:STANDARD
TZOFFSETFROM:-0700
TZOFFSETTO:-0800
TZNAME:PST
DTSTART:20251102T090000
END:STANDARD
END:VTIMEZONE
BEGIN:VEVENT
DTSTART;TZID=America/Los_Angeles:20240610T170000
DTEND;TZID=America/Los_Angeles:20240610T190000
DTSTAMP:20260419T190001
CREATED:20231228T235014Z
LAST-MODIFIED:20240607T004902Z
UID:3640-1718038800-1718046000@startupredding.com
SUMMARY:Startup Sessions: The Tricky Task of Understanding Your Market — Guest Speaker Danny Lee
DESCRIPTION:We’re excited to host Danny Lee from Taste & See Creamery and Cinder’s Wood Fired Pizza. Danny is joining us to share what he’s learned about launching a food service business\, understanding our local market\, and the resiliency needed to keep going when things don’t go your way. \nJoin us on the journey to build the most supportive startup community in the world! Come enjoy a cold beverage\, meet other founders\, and build a community that can support your business. Let’s connect and grow our businesses together! See you there! \n👇 👇 Please register to help us plan food & drinks for the event
URL:https://startupredding.com/event/startup-sessions-june-meetup/
LOCATION:Viva Downtown\, 1504 Market Street\, Redding\, CA\, 96001\, United States
ORGANIZER;CN="Startup Redding":MAILTO:hello@startupredding.com
END:VEVENT
END:VCALENDAR